BEGIN:VCALENDAR
VERSION:2.0
PRODID:-//WLV Esslingen//NONSGML kigkonsult.se iCalcreator 2.41.92//
CALSCALE:GREGORIAN
METHOD:PUBLISH
UID:36333263-6438-4237-a438-376132313735
X-WR-CALNAME:iCagenda
X-WR-CALDESC:Event Management Extension for Joomla!
X-WR-RELCALID:3E26604A-50F4-4449-8B3E-E4F4932D05B5
X-WR-TIMEZONE:UTC
BEGIN:VTIMEZONE
TZID:UTC
END:VTIMEZONE
BEGIN:VEVENT
UID:64393566-3961-4934-a434-336330323765
DTSTAMP:20260424T100430Z
CATEGORIES:Volkslauf
CLASS:PUBLIC
DESCRIPTION;ALTREP="CID:<FFFF__=0ABBE548DFE235B58f9e8a93d@coffeebean.com>":
 Jedes Jahr\, am&nbsp\;ersten Freitag im August\, findet der Wendlinger Zei
 tungslauf statt.\nJeder der Lust und Zeit hat kann daran teilnehmen. Die A
 nmeldung kann im Vorfeld erfolgen oder für kurz entschlossenen direkt am L
 auftag.\nStart und Ziel der Veranstaltung ist an der Gartenschule.\nDie Be
 wirtung findet im Hof der Gartenschule statt.\n&nbsp\;\n\n\n\n\nab\n\n&nbs
 p\;\n\n17.00 Uhr\n\n&nbsp\;\n\nStartnummernausgabe\, Nachmeldung direkt am
  Start\n\n&nbsp\;\n\n\n&nbsp\;\n&nbsp\;\n\n18.30 Uhr\n\n&nbsp\;\n\nStart S
 chülerInnenlauf über 1 Runde = 2\,5 km\n\n&nbsp\;\n\n\n&nbsp\;\n&nbsp\;\n
 \n18.50 Uhr\n\n&nbsp\;\n\nOffizielle Begrüßung der TeilnehmerInnen&nbsp\;
 \n\n&nbsp\;\n\n\n&nbsp\;\n&nbsp\;\n\n19.00 Uhr\n\n&nbsp\;\n\nStartschuss z
 um Hauptlauf\n\n&nbsp\;\n\n\n&nbsp\;\n&nbsp\;\n&nbsp\;\n&nbsp\;\n\nWährend
  der gesamten Veranstaltung findet die Bewirtung im Hof der Gartenschule s
 tatt\n\n&nbsp\;\n\n
DTSTART:20240802T000000Z
DTEND:20240802T000000Z
GEO:00;0
LOCATION:Wendlingen
ORGANIZER;CN=:mailto:leichtathletik@tsv-wendlingen.de
SEQUENCE:1
SUMMARY:19. Wendlinger Zeitungslauf
TRANSP:OPAQUE
URL:https://wlv-esslingen.de/index.php/termine-kreis-esslingen/archiv-termi
 ne-esslingen/84-19-wendlinger-zeitungslauf/2024-08-02-00-00
END:VEVENT
END:VCALENDAR
