BEGIN:VCALENDAR
VERSION:2.0
PRODID:-//WLV Esslingen//NONSGML kigkonsult.se iCalcreator 2.41.92//
CALSCALE:GREGORIAN
METHOD:PUBLISH
UID:66363563-3066-4365-b464-663434346438
X-WR-CALNAME:iCagenda
X-WR-CALDESC:Event Management Extension for Joomla!
X-WR-RELCALID:3E26604A-50F4-4449-8B3E-E4F4932D05B5
X-WR-TIMEZONE:UTC
BEGIN:VTIMEZONE
TZID:UTC
END:VTIMEZONE
BEGIN:VEVENT
UID:34656661-6663-4732-a139-373966636134
DTSTAMP:20260424T191351Z
CATEGORIES:Wettkampf (Kreis)
CLASS:PUBLIC
DESCRIPTION:
DTSTART:20230501T083000Z
DTEND:20230501T083000Z
GEO:00;0
LOCATION:Nellingen
ORGANIZER:
SEQUENCE:1
SUMMARY:Landesoffene Kinder-LA-Wettkämpfe
TRANSP:OPAQUE
URL:https://wlv-esslingen.de/index.php/termine-kreis-esslingen/archiv-termi
 ne-esslingen/62-landesoffene-kinder-la-wettkaempfe/2023-05-01-08-30
END:VEVENT
END:VCALENDAR
